BEGIN:VCALENDAR
CALSCALE:GREGORIAN
METHOD:PUBLISH
PRODID:-//github.com/rianjs/ical.net//NONSGML ical.net 4.0//EN
VERSION:2.0
X-WR-TIMEZONE:UTC
BEGIN:VEVENT
DESCRIPTION:The first UArctic Congress will be held in Saint-Petersburg\, 
 Russia\, from September 12th to 16th\, 2016. Hosted by Saint-Petersburg S
 tate University\, the Congress will feature Science and Meeting sections.
  Key UArctic meetings include the Council of UArctic\, UArctic Rectors' F
 orum\, Student Forum\, and Thematic Network leaders.
DTEND:20160916T140000Z
DTSTAMP:20150904T090755Z
DTSTART:20160912T060000Z
LAST-MODIFIED:20150929T170023Z
LOCATION:St. Petersburg\, Russia
SEQUENCE:0
SUMMARY:2016 UArctic Congress
UID:c71652f0-0e0a-4768-a2d7-ae123415f240@atlas.uarctic.org
URL:https://www.uarctic.org/about-us/calendar/2016-uarctic-congress/
END:VEVENT
END:VCALENDAR
