BEGIN:VCALENDAR
CALSCALE:GREGORIAN
METHOD:PUBLISH
PRODID:-//github.com/rianjs/ical.net//NONSGML ical.net 4.0//EN
VERSION:2.0
X-WR-TIMEZONE:UTC
BEGIN:VEVENT
DESCRIPTION:UArctic Assembly 2025 meeting will be held on 6-9 June 2025 in
  Inari\, Finland. The meeting will be hosted by Sámi Education Institute.
DTEND;VALUE=DATE:20250609
DTSTAMP:20240403T120727Z
DTSTART;VALUE=DATE:20250606
LAST-MODIFIED:20241104T091944Z
LOCATION:Inari\, Finland
SEQUENCE:0
SUMMARY:UArctic Assembly 2025 meeting
UID:542d3e1a-9fa7-4b2f-a64d-23c624bb7dd5@atlas.uarctic.org
URL:https://www.uarctic.org/about-us/calendar/uarctic-assembly-2025-meetin
 g/
END:VEVENT
END:VCALENDAR
